BEGIN:VCALENDAR
PRODID:RAVE.CA V17.0
X-WR-CALNAME:Tony, Nikov
X-ORIGINAL-URL:https://www.rave.ca/event/36745/
VERSION:2.0
CALSCALE:GREGORIAN
METHOD:PUBLISH
BEGIN:VEVENT
DTSTAMP:20091225T140004Z
LAST-MODIFIED:20091225T140004Z
CREATED:20091225T135955Z
SEQUENCE:36745
ORGANIZER:Unknown
DTSTART:20091224T220000Z
DTEND:20091225T030000Z
UID:event_36745@rave.ca
SUMMARY:Tony\, Nikov
LOCATION:Pearl\, Club
URL:https://www.rave.ca/event/36745/
DESCRIPTION:SPECIAL X-MAS EVE LINE-UP!\n10PM - 3AM\n\n'Twas the night before Christmas\, when all through the house\,\nNot a creature was stirring\, not even a mouse\;\nThey came to club Pearl dressed with flair\,\nIn hopes that Tony & Dan soon would be there\;\nThe dancers were gathered all snug on the floor\,\nWhile visions of dirty techno beats made them all roar\;\n\n... for those of you that don't know\, this will be an evening showcasing\nsome of Montreal's finest\, dark\, and dirty techno beats. See you there.\n\nLINE-UP:\n\nNikov\n\nTony Soupliotis\n\n\n\n5$ @ the door! \n\nSalon Pearl 2021 St. Denis
CLASS:PUBLIC
CATEGORIES:
STATUS:CONFIRMED
PARTSTAT:ACCEPTED
END:VEVENT
END:VCALENDAR
