BEGIN:VCALENDAR
PRODID:RAVE.CA V17.0
X-WR-CALNAME:Sound Syndicate Christmas Miracle
X-ORIGINAL-URL:https://www.rave.ca/event/36744/
VERSION:2.0
CALSCALE:GREGORIAN
METHOD:PUBLISH
BEGIN:VEVENT
DTSTAMP:20260408T005133Z
LAST-MODIFIED:20260408T005133Z
CREATED:20091225T135925Z
SEQUENCE:36744
ORGANIZER:Unknown
DTSTART:20091217T220000Z
DTEND:20091218T030000Z
UID:event_36744@rave.ca
SUMMARY:Sound Syndicate Christmas Miracle
LOCATION:Ritual\, Nightclub
URL:https://www.rave.ca/event/36744/
DESCRIPTION:First some news...613Sessions will be taking our first Thursday off on Christmas eve this year.  This means you get to open your present from us early in the form of free cover this Thursday the 17th to see BIGSTUFF and special guest.  Doors open at 10pm as usual.  \n\nand now...NEW YEARS EVE!!!\n\n613Sessions\, Kapacity Entertainment\, StraightGoods\, The Sound Syndicate and Ritual Nightclub are joining forces to bring you by far the biggest party in the city this new years eve.  Thursday Decemeber 31st 2009\, Ritual has got more amazing musical talent under one roof than some clubs will see all year.  \n\nIn the main room...\n\nDRASTIK\nTremendous Records - Stylusts\nhttp://www.myspace.com/djdrastik\n\nDIAMONDS IN THE KUT\nFRAME & KAEM (Grind\, Ritual\, The Brig\, Sound Syndicate)\n\nand...\n\nKEYS N KRATES (Toronto)\n\nKEYS N KRATES are like nothing you've ever seen before. Using live instrumentation\, turntablism\, and live sampling\, KEYS N KRATES have 're-invented the remix'. The trio consists of world champion turntablist and certified 'partyrocker' DJ Jr Flo (EH! Team DJ's)\, the ever soulful Matisse on keys and hard hitting Tune on Drums.\n\nOver the past year they've toured all of Canada and have started making their presence felt in the U.S. After garnering rave reviews from their CMJ showcase at NYC's prestigious NUBLU\, they have gone on to play alongside Questlove at the famous S.O.B.'s\, be featured on the Hot 97 "Who's Next" Showcase alongside K'Naan\, and were just recently a featured act at the 2009 South By Southwest Music Festival (SXSW) for the first time. Keys N Krates were just chosen to be featured in Urb Magazine's'2009 Next 100' issue\, joining past featured next 100 artists such as Kid Sister\, TV On The Radio and many more of today's hottest artists. The Live Remix experience is something you have to see to believe.\n\nhttp://www.youtube.com/watch?v=tnFvqPxpJ1s\nhttp://www.youtube.com/watch?v=izTJmSUofKY&feature=related\nhttp://www.youtube.com/watch?v=HsNdjeuGCGw&feature=related\n\n************************************************************\n\nIn the bassment...\n\n613Sessions has invited back a few of our favorite sons to help ring in the new year with some ridiculous beats.  \n\nBIGSTUFF (613Sessions\, Sound Syndicate)\nwww.bigstuffproductions.com\n\nMIKE EMVEE (Sound Syndicate\, Auryn Music)\n\nDJ RX aka Colin White (Sound Syndicate\, Les Boyz Electro)\n\n& ERIC ENERGY\n\n************************************************************\n\nTickets: $20 in advance - more at the door\n\nAvailable at Reap & Sew\, Top of the World\, Norml\, Vertigo Records & The Lay Up.\n\n\nRitual - 137 Besserer St - Ottawa\, ON \n\nFor bottle & booth reservations contact: kapacity@gmail.com or ritualnightclub@gmail.com\n\nDoors: 10pm
CLASS:PUBLIC
CATEGORIES:
STATUS:CONFIRMED
PARTSTAT:ACCEPTED
END:VEVENT
END:VCALENDAR
