BEGIN:VCALENDAR
PRODID:RAVE.CA V17.0
X-WR-CALNAME:Dj Chus&#039; Birthday Bash
X-ORIGINAL-URL:https://www.rave.ca/event/36649/
VERSION:2.0
CALSCALE:GREGORIAN
METHOD:PUBLISH
BEGIN:VEVENT
DTSTAMP:20091223T143017Z
LAST-MODIFIED:20091223T143017Z
CREATED:20091223T143010Z
SEQUENCE:36649
ORGANIZER:Unknown
DTSTART:20091225T220000Z
DTEND:20091226T060000Z
UID:event_36649@rave.ca
SUMMARY:Dj Chus' Birthday Bash
LOCATION:Pacha NYC
URL:https://www.rave.ca/event/36649/
DESCRIPTION:Friday December 25\nPacha NYC presents...\n\nDJ CHUS (Of Chus & Ceballos)\nBIRTHDAY BASH!\n\nOpening set: PATRICK M \n\nfeaturing live percussion by \nPAKITO BAEZA \n\nHappy Birthday Chus! Stereo Productions head and one half of international DJ duo Chus & Ceballos (our newest resident DJs) Chus celebrates his B-Day in Stereo style! Prepare for a delicious mix of hypnotic house\, and big room drums from the Iberian export. Legendary percussionist Pakito Baeza provides live drums all night\, plus Space Miami resident Patrick M opens up. Be there! \n\nFREE BEFORE 12 MIDNIGHT\nClick here to get on the list...\nhttp://www.pachanyc.com/guestlist_122509.html\n\nGET TICKETS:\nhttp://pacha-nyc.clubtickets.com/us/2009-12/25/pacha-nyc-presents-dj-chus\nDoors open 10pm\nTable Reservations 212.209.7500\n\nPacha NYC\n618 W.46th St.\nwww.pachanyc.com\n\n--------------------------------------------\n\nCelebrate your birthday with us!\nhttp://pachanyc.com/partywithus/
CLASS:PUBLIC
CATEGORIES:
STATUS:CONFIRMED
PARTSTAT:ACCEPTED
END:VEVENT
END:VCALENDAR
