BEGIN:VCALENDAR
PRODID:RAVE.CA V17.0
X-WR-CALNAME:Q-Bert, Clue, Jay-Z
X-ORIGINAL-URL:https://www.rave.ca/event/3664/
VERSION:2.0
CALSCALE:GREGORIAN
METHOD:PUBLISH
BEGIN:VEVENT
DTSTAMP:20040628T000000Z
LAST-MODIFIED:20040628T000000Z
CREATED:20040628T000000Z
SEQUENCE:3664
ORGANIZER:Unknown
DTSTART:20020331T010000Z
DTEND:20020331T010000Z
UID:event_3664@rave.ca
SUMMARY:Q-Bert\, Clue\, Jay-Z
LOCATION:Aria\, Afterhours
URL:https://www.rave.ca/event/3664/
DESCRIPTION:
CLASS:PUBLIC
CATEGORIES:
STATUS:CONFIRMED
PARTSTAT:ACCEPTED
END:VEVENT
END:VCALENDAR
