BEGIN:VCALENDAR
PRODID:RAVE.CA V17.0
X-WR-CALNAME:Bal En Rouge
X-ORIGINAL-URL:https://www.rave.ca/event/36571/
VERSION:2.0
CALSCALE:GREGORIAN
METHOD:PUBLISH
BEGIN:VEVENT
DTSTAMP:20091219T143159Z
LAST-MODIFIED:20091219T143159Z
CREATED:20091219T143143Z
SEQUENCE:36571
ORGANIZER:Unknown
DTSTART:20091223T210000Z
DTEND:20091224T030000Z
UID:event_36571@rave.ca
SUMMARY:Bal En Rouge
LOCATION:Balmoral 3625 boul Frontenac  Thetford Mines
URL:https://www.rave.ca/event/36571/
DESCRIPTION:Merc 23 Déc Dj DoyDoy présente Le bal en Rouge\,un party house électro juste avant les fetes .Gros party en vue la gang avec dj trep\,dj oliverzstyle et dj peed.\n\non vous attend !!!! merc 23 déc\nwww.discobarbalmoral.com
CLASS:PUBLIC
CATEGORIES:
STATUS:CONFIRMED
PARTSTAT:ACCEPTED
END:VEVENT
END:VCALENDAR
