BEGIN:VCALENDAR
PRODID:RAVE.CA V17.0
X-WR-CALNAME:Divingbell, Others
X-ORIGINAL-URL:https://www.rave.ca/event/36545/
VERSION:2.0
CALSCALE:GREGORIAN
METHOD:PUBLISH
BEGIN:VEVENT
DTSTAMP:20091219T141857Z
LAST-MODIFIED:20091219T141857Z
CREATED:20091219T141846Z
SEQUENCE:36545
ORGANIZER:Unknown
DTSTART:20091218T210000Z
DTEND:20091218T210000Z
UID:event_36545@rave.ca
SUMMARY:Divingbell\, Others
LOCATION:Piranha Bar
URL:https://www.rave.ca/event/36545/
DESCRIPTION:$5\n\n@ Le Piranha Bar\, 680 rue Ste-Catherine O\n\nhttp://www.myspace.com/divingbellband
CLASS:PUBLIC
CATEGORIES:
STATUS:CONFIRMED
PARTSTAT:ACCEPTED
END:VEVENT
END:VCALENDAR
