BEGIN:VCALENDAR
PRODID:RAVE.CA V17.0
X-WR-CALNAME:Party De Fin De Session Cégep
X-ORIGINAL-URL:https://www.rave.ca/event/36435/
VERSION:2.0
CALSCALE:GREGORIAN
METHOD:PUBLISH
BEGIN:VEVENT
DTSTAMP:20091214T195411Z
LAST-MODIFIED:20091214T195411Z
CREATED:20091214T195400Z
SEQUENCE:36435
ORGANIZER:Unknown
DTSTART:20091221T210000Z
DTEND:20091222T030000Z
UID:event_36435@rave.ca
SUMMARY:Party De Fin De Session Cégep
LOCATION:Club Soda
URL:https://www.rave.ca/event/36435/
DESCRIPTION:Sounds of Liberty vs présente le dernier gros party de l'année 2009: \nWARM WINTER PROJECT- PARTY DE FIN DE SESSION CÉGEP\n\nQuand?\nLe party aura lieu le 21 décembre (un lundi) au Club Soda.\n\nÀ quel heure?\nDe 21h à 3h00 du matin\n\nFaut-il des cartes?\nPour l'alcool\, ayez une carte gouvernementale (permis de conduire\, carte d'assurance maladie\, etc.) (18 ans+)\nCet Évenement est 17ans et +\n\nLes billets sont combien?\nLes premiers acheteurs (euses) seront favorisés (es). Voici pourquoi...\n\n200 premiers billets de filles: 5$\nLes autres billets de filles: 10$ \n\nBillets pour les gars: 15$ \n\n200 derniers billets: 20$ (fille/gars)\n\nLes billets seront en vente au Club Soda\nVendeurs Locaux a venir\n\n\n\nDONC ACHETEZ VOS BILLETS À L'AVANCE!\n\nQui sera le Dj de l'évènement?\n\nDJ SCIP\nDJ SPENS\nDJ FRED4SHO\n\nBODYPAINTS GRATUIT SUR PLACE PAR REMIXBODYPAINT INC. \n\nSOYEZ PRESENT LE 21 DÉCEMBRE AU CLUB SODA AFIN DE CÉLÉBRER AVEC NOUS LE DÉBUT DES VACANCES ! IL EST TEMPS DE MONTRER À TOUS COMMENT LES HIVERS AU QUÉBEC SONT CHAUDS!\n\nLes billets seront mis en vente le 21 novembre 2009
CLASS:PUBLIC
CATEGORIES:
STATUS:CONFIRMED
PARTSTAT:ACCEPTED
END:VEVENT
END:VCALENDAR
