BEGIN:VCALENDAR
PRODID:RAVE.CA V17.0
X-WR-CALNAME:Disorder-Dj Law-Left Side Neighbour
X-ORIGINAL-URL:https://www.rave.ca/event/36368/
VERSION:2.0
CALSCALE:GREGORIAN
METHOD:PUBLISH
BEGIN:VEVENT
DTSTAMP:20091213T150104Z
LAST-MODIFIED:20091213T150104Z
CREATED:20091213T145753Z
SEQUENCE:36368
ORGANIZER:Unknown
DTSTART:20091217T210000Z
DTEND:20091217T030000Z
UID:event_36368@rave.ca
SUMMARY:Disorder-Dj Law-Left Side Neighbour
LOCATION:Unknown
URL:https://www.rave.ca/event/36368/
DESCRIPTION:10:00pm-11:00pm\n\nLeft Side Neighbour (Live)\n\nLeft Side Neighbour Official:\nhttp://www.leftsideneighbour.com\n\nLeft Side Neighbour Myspace:\nhttp://www.myspace.com/leftsideneighbour\n\nLeft Side Neighbour Facebook:\nhttp://www.facebook.com/pages/Left-Side-Neighbour/7754391094\n\n\n\n11:30pm-12:30am\n\nDisorder (Live)\n\nDisorder Myspace:\nhttp://www.myspace.com/disorderrr\n\nDisorder ReverbNation:\nhttp://www.reverbnation.com/disorderrr\n\nDisorder Facebook:\nhttp://www.facebook.com/pages/DISORDER/141060216623\n\n\n\n12:30am-3:00am\n\nDJ LAW Montréal (Special Industrial Body Music Set)\n\nDJ LAW Myspace biographie:\nhttp://www.myspace.com/djlawmontreal\n\nDJ LAW Myspace Remixes:\nhttp://www.myspace.com/djlawmontrealremixes\n\nDJ LAW Youtube:\nhttp://www.youtube.com/user/DJVJLAW\n\n\nLe Piranha Bar\n680\, rue Ste-Catherine O. (métro Mcgill)\n(514) 996-0761\n\nLe Piranah Myspace:\nhttp://www.myspace.com/lepiranhabar\n\nLe Piranah Bar Facebook:\nhttp://www.facebook.com/lepiranhabar\n\nLe Piranah Bar Facebook Group:\nhttp://www.facebook.com/group.php?v=wall&gid=191130629825\n\n(2 Bands + DJ LAW MTL) ...9pm-3am\n■ Entrée/Entrance: 6.00$\n\n>> Special All Night <<\n■ Pinte 32 oz = 4.75$\n■ Shooter = 3.00$ (Goldschlager ou Jagermeister)
CLASS:PUBLIC
CATEGORIES:
STATUS:CONFIRMED
PARTSTAT:ACCEPTED
END:VEVENT
END:VCALENDAR
