BEGIN:VCALENDAR
PRODID:RAVE.CA V17.0
X-WR-CALNAME:Steven B-Day Bash Party
X-ORIGINAL-URL:https://www.rave.ca/event/36350/
VERSION:2.0
CALSCALE:GREGORIAN
METHOD:PUBLISH
BEGIN:VEVENT
DTSTAMP:20091209T140949Z
LAST-MODIFIED:20091209T140949Z
CREATED:20091209T140941Z
SEQUENCE:36350
ORGANIZER:Unknown
DTSTART:20091207T235000Z
DTEND:20091214T031000Z
UID:event_36350@rave.ca
SUMMARY:Steven B-Day Bash Party
LOCATION:Chill Montreal
URL:https://www.rave.ca/event/36350/
DESCRIPTION:Bon!!! Et oui je vieillit encore d'une année (33 ans) et avec quelques cheveux blanc en plus.... Certains m'ont déjà fait la remarque grrrrr. Lolllll.\n\nEt oui\, je vous invite donc à mon party de fête qui ce déroulera Vendredi soir de cette semaine soit le 11 Décembre au New Chill Montréal donc plusieurs amis dj à qui j'ai demandés de venir me faire bouger moi et mes amis présents au son de leurs Bonne musiques :)))) Je vais surement vous montrés mes talents durant la soirée et nuit. Soyez sur de ca :)) Alors tous ceux qui ne m'ont pas encore écoutés\, vous en aurez la chance...\n\nAlors S.V.P Venez en grand nombre pour que je passe le plus cool party de fête.. Et disons q'avec tout les changement dans ma vie\, ca ne me fera pas de tord de tous vous voir!!!\n\nA vendredi Gang!!!!!!!!!!!!!!!!!!
CLASS:PUBLIC
CATEGORIES:
STATUS:CONFIRMED
PARTSTAT:ACCEPTED
END:VEVENT
END:VCALENDAR
