BEGIN:VCALENDAR
PRODID:RAVE.CA V17.0
X-WR-CALNAME:Diary Of A Lost Cicus
X-ORIGINAL-URL:https://www.rave.ca/event/36330/
VERSION:2.0
CALSCALE:GREGORIAN
METHOD:PUBLISH
BEGIN:VEVENT
DTSTAMP:20091209T135550Z
LAST-MODIFIED:20091209T135550Z
CREATED:20091209T135542Z
SEQUENCE:36330
ORGANIZER:Unknown
DTSTART:20091216T190000Z
DTEND:20091216T190000Z
UID:event_36330@rave.ca
SUMMARY:Diary Of A Lost Cicus
LOCATION:Cabaret Cleo
URL:https://www.rave.ca/event/36330/
DESCRIPTION:Diary of A Lost Circus\nWednesday December 16th\nCafe cleopatre\n\ndoors 8pm\, show at 9.\n8$\n\nfor interviews  contact Dom Castelli lostcircus@gmail.com  514-804-4348\n\n\nDo you want to find something a little different in your stockings  \nthis year?\nWell\, there will be plenty of ho-ho-hose for everyone on December 16th.\nThat's when the mega stars of Montreal's Burlesque strut the stage at  \nCafe Cleopatre.\n And it's all for a good cause -- a benefit performance for the  \nMaison  L’Ocean's Women's Shelter.\nThe money raised from the event will go towards Christmas presents for  \nchildren living at the shelter.\n Up to 80 children are now residing there.\n\nThe show features the slaphappy  sounds and visual stylings of Tommy  \nToxic\, The Dead Doll Dancers\,\nThe Sultry and sexy  Miss Sugarpuss\, Seska Lee\, Damiana Dolce\, Bianca  \nBraveheart The fabulous Lis Vignault ! We do have a habit of  turning  \nour show\ninto a delicious stocking full of many unexpected treats and turn-ons.  \nAudience participation takes on a whole\nnew meaning with kissing contests\, the christmas mad dance off and hug  \na stranger contest (We want to make sure everyone gets a present this  \nyear-)\n\nDiary of a Lost Circus is a production company dedicated to supporting  \nmontreal's underground artistic community.\n In operation since 2006\, Diary of a Lost Circus had gathered a  \ntalented roster of Burlesque\, vaudeville and cabaret stars.\nIt's performers have graced the halls of the McCord Museum\, and  \nperformed at The Montreal Fringe Festival. Watch for our upcoming  \nevents in 2010.\n\n\n\nDomenic Castelli\nGet it Done!\,\nlostcircus@gmail.com\n514-804-4348
CLASS:PUBLIC
CATEGORIES:
STATUS:CONFIRMED
PARTSTAT:ACCEPTED
END:VEVENT
END:VCALENDAR
