BEGIN:VCALENDAR
PRODID:RAVE.CA V17.0
X-WR-CALNAME:Snailhouse, Old Believer
X-ORIGINAL-URL:https://www.rave.ca/event/36293/
VERSION:2.0
CALSCALE:GREGORIAN
METHOD:PUBLISH
BEGIN:VEVENT
DTSTAMP:20091208T005313Z
LAST-MODIFIED:20091208T005313Z
CREATED:20091208T005309Z
SEQUENCE:36293
ORGANIZER:Unknown
DTSTART:20091216T210000Z
DTEND:20091216T210000Z
UID:event_36293@rave.ca
SUMMARY:Snailhouse\, Old Believer
LOCATION:Casa Del Popolo
URL:https://www.rave.ca/event/36293/
DESCRIPTION:Old Believer 10pm\nSnailhouse 11pm
CLASS:PUBLIC
CATEGORIES:
STATUS:CONFIRMED
PARTSTAT:ACCEPTED
END:VEVENT
END:VCALENDAR
