BEGIN:VCALENDAR
PRODID:RAVE.CA V17.0
X-WR-CALNAME:Leif Vollebekk, The Youjsh
X-ORIGINAL-URL:https://www.rave.ca/event/36288/
VERSION:2.0
CALSCALE:GREGORIAN
METHOD:PUBLISH
BEGIN:VEVENT
DTSTAMP:20091208T005222Z
LAST-MODIFIED:20091208T005222Z
CREATED:20091208T005217Z
SEQUENCE:36288
ORGANIZER:Unknown
DTSTART:20091213T210000Z
DTEND:20091213T210000Z
UID:event_36288@rave.ca
SUMMARY:Leif Vollebekk\, The Youjsh
LOCATION:Casa Del Popolo
URL:https://www.rave.ca/event/36288/
DESCRIPTION:
CLASS:PUBLIC
CATEGORIES:
STATUS:CONFIRMED
PARTSTAT:ACCEPTED
END:VEVENT
END:VCALENDAR
