BEGIN:VCALENDAR
PRODID:RAVE.CA V17.0
X-WR-CALNAME:Brad Barr, Migrating Birds, Harris Newman
X-ORIGINAL-URL:https://www.rave.ca/event/36285/
VERSION:2.0
CALSCALE:GREGORIAN
METHOD:PUBLISH
BEGIN:VEVENT
DTSTAMP:20091208T005143Z
LAST-MODIFIED:20091208T005143Z
CREATED:20091208T005138Z
SEQUENCE:36285
ORGANIZER:Unknown
DTSTART:20091212T210000Z
DTEND:20091212T210000Z
UID:event_36285@rave.ca
SUMMARY:Brad Barr\, Migrating Birds\, Harris Newman
LOCATION:Casa Del Popolo
URL:https://www.rave.ca/event/36285/
DESCRIPTION:
CLASS:PUBLIC
CATEGORIES:
STATUS:CONFIRMED
PARTSTAT:ACCEPTED
END:VEVENT
END:VCALENDAR
