BEGIN:VCALENDAR
PRODID:RAVE.CA V17.0
X-WR-CALNAME:P45: Dj Audrey Pm (Otarie) Et Dj Julien Cayer (45 Tours)
X-ORIGINAL-URL:https://www.rave.ca/event/36282/
VERSION:2.0
CALSCALE:GREGORIAN
METHOD:PUBLISH
BEGIN:VEVENT
DTSTAMP:20091208T004956Z
LAST-MODIFIED:20091208T004956Z
CREATED:20091208T004943Z
SEQUENCE:36282
ORGANIZER:Unknown
DTSTART:20091211T210000Z
DTEND:20091211T210000Z
UID:event_36282@rave.ca
SUMMARY:P45: Dj Audrey Pm (Otarie) Et Dj Julien Cayer (45 Tours)
LOCATION:Casa Del Popolo
URL:https://www.rave.ca/event/36282/
DESCRIPTION:
CLASS:PUBLIC
CATEGORIES:
STATUS:CONFIRMED
PARTSTAT:ACCEPTED
END:VEVENT
END:VCALENDAR
