BEGIN:VCALENDAR
PRODID:RAVE.CA V17.0
X-WR-CALNAME:A Complete Fiasco
X-ORIGINAL-URL:https://www.rave.ca/event/36240/
VERSION:2.0
CALSCALE:GREGORIAN
METHOD:PUBLISH
BEGIN:VEVENT
DTSTAMP:20091207T180935Z
LAST-MODIFIED:20091207T180935Z
CREATED:20091207T180923Z
SEQUENCE:36240
ORGANIZER:Unknown
DTSTART:20091222T220000Z
DTEND:20091222T230000Z
UID:event_36240@rave.ca
SUMMARY:A Complete Fiasco
LOCATION:Unknown
URL:https://www.rave.ca/event/36240/
DESCRIPTION:Frankie Fiasco hits the decks every tuesday @ www.beatboxradio.com -- He aims to pound as much beat as he can. Trance & Prog.
CLASS:PUBLIC
CATEGORIES:
STATUS:CONFIRMED
PARTSTAT:ACCEPTED
END:VEVENT
END:VCALENDAR
