BEGIN:VCALENDAR
PRODID:RAVE.CA V17.0
X-WR-CALNAME:The Wooden Sky Performs On Mtv Live
X-ORIGINAL-URL:https://www.rave.ca/event/36175/
VERSION:2.0
CALSCALE:GREGORIAN
METHOD:PUBLISH
BEGIN:VEVENT
DTSTAMP:20091209T134116Z
LAST-MODIFIED:20091209T134116Z
CREATED:20091207T151400Z
SEQUENCE:36175
ORGANIZER:Unknown
DTSTART:20091209T190000Z
DTEND:20091209T190000Z
UID:event_36175@rave.ca
SUMMARY:The Wooden Sky Performs On Mtv Live
LOCATION:The Masonic Temple
URL:https://www.rave.ca/event/36175/
DESCRIPTION:To book free tickets email: liveaudeince@mtv.ca
CLASS:PUBLIC
CATEGORIES:
STATUS:CONFIRMED
PARTSTAT:ACCEPTED
END:VEVENT
END:VCALENDAR
