BEGIN:VCALENDAR
PRODID:RAVE.CA V17.0
X-WR-CALNAME:Ko Drum &amp; Bass: Dj Mayday
X-ORIGINAL-URL:https://www.rave.ca/event/36174/
VERSION:2.0
CALSCALE:GREGORIAN
METHOD:PUBLISH
BEGIN:VEVENT
DTSTAMP:20091207T151333Z
LAST-MODIFIED:20091207T151333Z
CREATED:20091207T151325Z
SEQUENCE:36174
ORGANIZER:Unknown
DTSTART:20091218T220000Z
DTEND:20091219T030000Z
UID:event_36174@rave.ca
SUMMARY:Ko Drum & Bass: Dj Mayday
LOCATION:Cafe Campus
URL:https://www.rave.ca/event/36174/
DESCRIPTION:Beat Concierge & Shift music presents:\n\nKO DRUM & BASS\n18 DECEMBRE 2009\n\n*XMAS HOLIDAY EDITION / LAST OF 09 !*\n\nw/\n\nDJ MAYDAY\n( dogsonacid.com / i love neon)\n\nVILIFY\n( Bass Drive )\n\nAnd Residents:\n\nGENERIC& QUBIQ\n( Shift music / Function / Creative Source )\nwww\,myspace.com/generictm\n\nGOLGO 13\n(Beat concierge)
CLASS:PUBLIC
CATEGORIES:
STATUS:CONFIRMED
PARTSTAT:ACCEPTED
END:VEVENT
END:VCALENDAR
