BEGIN:VCALENDAR
PRODID:RAVE.CA V17.0
X-WR-CALNAME:The Blip Festival 2009
X-ORIGINAL-URL:https://www.rave.ca/event/36165/
VERSION:2.0
CALSCALE:GREGORIAN
METHOD:PUBLISH
BEGIN:VEVENT
DTSTAMP:20091207T142501Z
LAST-MODIFIED:20091207T142501Z
CREATED:20091207T142450Z
SEQUENCE:36165
ORGANIZER:Unknown
DTSTART:20091217T190000Z
DTEND:20091220T020000Z
UID:event_36165@rave.ca
SUMMARY:The Blip Festival 2009
LOCATION:The Bell House
URL:https://www.rave.ca/event/36165/
DESCRIPTION:The world's premier chip music event\, four years running\, returns to New York City in December 2009. \n\nhttp://blipfestival.org\n\nThursday\, December 17th through Saturday\, December 19th\, 2009 \nat The Bell House • http://www.thebellhouseny.com\n149 7th Street\nBrooklyn\, NY 11215\nUS\n\nGoogle map: http://3.ly/eLF\nAll-ages\, 21+ to drink.\n\n\nClear your schedule because the Blip Festival is hurtling back into near-Earth orbit\, striking ground in mid-December in an explosive\, blistering fireball. The Blip Festival 2009\, the event's 4th NYC edition\, boasts 30+ international artists\, including 24 musicians and an estimated 6-9 visualists\, all defining the look and sound of the future using devices of the past. All supplemented by daytime and nighttime supplementary events\, including workshops\, screenings\, presentations\, and other special pre-show and post-show events.\n\nhttp://blipfestival.org/\nhttp://twitter.com/blipfestival\n\n\n\nLIVE PERFORMANCES BY:\n____________________________________________________________\nMUSICIANS\n\n[US] Albino Ghost Monkey\n[US] Bit Shifter\n[US] Bubblyfish\n[DE] Patric C.\n[US] Chromix\n[US] Disasterpeace\n[FR] Eat Rabbit\n[HU] failotron\n[US] Fighter X\n[US] glomag\n[JP] The Hunters\n[US] I\, Cactus\n[CA] The J. Arthur Keenes Band\n[FR] Je Deviens DJ en Trois Jours\n[US] Leeni\n[AU] little-scale\n[US] minusbaby\n[US] Nullsleep\n[SE] Psilodump\n[US] Rainbowdragoneyes\n[US] Silent Requiem\n[US] Starscream\n[UK] David Sugar\n[SE] tRasH cAn maN\n\n____________________________________________________________\nVISUALISTS\n\n[NL] The C-Men\n[US] enso\n[US] Jean Y. Kim\n[NL] Rosa Menkman\n[US] NO CARRIER\n[US] outpt\n[US] Paris\n[US] VBLANK\n\n\n\n____________________________________________________________\nTICKETS\n\n$15.00 • each individual night of performances\n$40.00 • three-day festival pass\n\nPurchase tickets at:\nhttp://blipfestival.org/2009/schedule#tickets
CLASS:PUBLIC
CATEGORIES:
STATUS:CONFIRMED
PARTSTAT:ACCEPTED
END:VEVENT
END:VCALENDAR
