BEGIN:VCALENDAR
PRODID:RAVE.CA V17.0
X-WR-CALNAME:Ibague~satronica Sonico And More....
X-ORIGINAL-URL:https://www.rave.ca/event/36164/
VERSION:2.0
CALSCALE:GREGORIAN
METHOD:PUBLISH
BEGIN:VEVENT
DTSTAMP:20091211T180348Z
LAST-MODIFIED:20091211T180348Z
CREATED:20091207T101347Z
SEQUENCE:36164
ORGANIZER:Unknown
DTSTART:20091205T210000Z
DTEND:20091205T210000Z
UID:event_36164@rave.ca
SUMMARY:Ibague~satronica Sonico And More....
LOCATION:Unknown
URL:https://www.rave.ca/event/36164/
DESCRIPTION:
CLASS:PUBLIC
CATEGORIES:
STATUS:CONFIRMED
PARTSTAT:ACCEPTED
END:VEVENT
END:VCALENDAR
