BEGIN:VCALENDAR
PRODID:RAVE.CA V17.0
X-WR-CALNAME:Danny Howells, Lafleche
X-ORIGINAL-URL:https://www.rave.ca/event/3612/
VERSION:2.0
CALSCALE:GREGORIAN
METHOD:PUBLISH
BEGIN:VEVENT
DTSTAMP:20040719T000000Z
LAST-MODIFIED:20040719T000000Z
CREATED:20040616T000000Z
SEQUENCE:3612
ORGANIZER:Unknown
DTSTART:20040813T030000Z
DTEND:20040813T030000Z
UID:event_3612@rave.ca
SUMMARY:Danny Howells\, Lafleche
LOCATION:Aria\, Afterhours
URL:https://www.rave.ca/event/3612/
DESCRIPTION:
CLASS:PUBLIC
CATEGORIES:
STATUS:CONFIRMED
PARTSTAT:ACCEPTED
END:VEVENT
END:VCALENDAR
