BEGIN:VCALENDAR
PRODID:RAVE.CA V17.0
X-WR-CALNAME:Minimal Xmas: Fancyphreek, Smk @ Club Pearl - Fri. Dec. 25th 2009 - 22: 00-&gt;03:
X-ORIGINAL-URL:https://www.rave.ca/event/36100/
VERSION:2.0
CALSCALE:GREGORIAN
METHOD:PUBLISH
BEGIN:VEVENT
DTSTAMP:20091206T161407Z
LAST-MODIFIED:20091206T161407Z
CREATED:20091206T121701Z
SEQUENCE:36100
ORGANIZER:Unknown
DTSTART:20091225T220000Z
DTEND:20091225T220000Z
UID:event_36100@rave.ca
SUMMARY:Minimal Xmas: Fancyphreek\, Smk @ Club Pearl - Fri. Dec. 25th 2009 - 22: 00->03:
LOCATION:Pearl\, Club
URL:https://www.rave.ca/event/36100/
DESCRIPTION:http://www.facebook.com/#/profile.php?id=100000539771605&ref=mf
CLASS:PUBLIC
CATEGORIES:
STATUS:CONFIRMED
PARTSTAT:ACCEPTED
END:VEVENT
END:VCALENDAR
