BEGIN:VCALENDAR
PRODID:RAVE.CA V17.0
X-WR-CALNAME:Ko Drum N Bass Feat Dj Mayday
X-ORIGINAL-URL:https://www.rave.ca/event/35645/
VERSION:2.0
CALSCALE:GREGORIAN
METHOD:PUBLISH
BEGIN:VEVENT
DTSTAMP:20091219T130223Z
LAST-MODIFIED:20091219T130223Z
CREATED:20091201T144735Z
SEQUENCE:35645
ORGANIZER:Unknown
DTSTART:20091218T220000Z
DTEND:20091219T030000Z
UID:event_35645@rave.ca
SUMMARY:Ko Drum N Bass Feat Dj Mayday
LOCATION:Petit Campus
URL:https://www.rave.ca/event/35645/
DESCRIPTION:Beat Concierge et Shift Music presentent :\n\nKO le party de noel\n\navec vos residents :\nGolgo13\nGeneric & Qubiq MC\nvj Kai\n\n+ invites :\nMayday\nVilify\n\nau Petit Campus 57 Prince Arthur est.\nde 22hrs a 3am.\n\nentree 5$
CLASS:PUBLIC
CATEGORIES:
STATUS:CONFIRMED
PARTSTAT:ACCEPTED
END:VEVENT
END:VCALENDAR
