BEGIN:VCALENDAR
PRODID:RAVE.CA V17.0
X-WR-CALNAME:Dj Cy-Fi
X-ORIGINAL-URL:https://www.rave.ca/event/35585/
VERSION:2.0
CALSCALE:GREGORIAN
METHOD:PUBLISH
BEGIN:VEVENT
DTSTAMP:20091127T164116Z
LAST-MODIFIED:20091127T164116Z
CREATED:20091127T164109Z
SEQUENCE:35585
ORGANIZER:Unknown
DTSTART:20091128T220000Z
DTEND:20091129T030000Z
UID:event_35585@rave.ca
SUMMARY:Dj Cy-Fi
LOCATION:Passeport\, Club
URL:https://www.rave.ca/event/35585/
DESCRIPTION:Entirely NEW set(s)!!\nThis time with an 80s twist \;)\nTime to bust out some sick Psy Trance mixes \nWill give more details later\, very tired from last night\n\nSet Time: Approximately MIDNIGHT\nGoing to be recording my set(s) this time as well\nRecordings will be released for download once I return to the states and have them mastered\n\nPics from last night available @ MySpace.Com/DjCyFi\n\n\nThis Will Be My LAST Night Out Partying In Montreal...So INVITE All Your Friends So We Can Have A Blast :)
CLASS:PUBLIC
CATEGORIES:
STATUS:CONFIRMED
PARTSTAT:ACCEPTED
END:VEVENT
END:VCALENDAR
