BEGIN:VCALENDAR
PRODID:RAVE.CA V17.0
X-WR-CALNAME:Christmas Night (9e Edition)
X-ORIGINAL-URL:https://www.rave.ca/event/35570/
VERSION:2.0
CALSCALE:GREGORIAN
METHOD:PUBLISH
BEGIN:VEVENT
DTSTAMP:20091127T162849Z
LAST-MODIFIED:20091127T162849Z
CREATED:20091127T162834Z
SEQUENCE:35570
ORGANIZER:Unknown
DTSTART:20091219T235500Z
DTEND:20091220T100000Z
UID:event_35570@rave.ca
SUMMARY:Christmas Night (9e Edition)
LOCATION:endroit devoiler 24hrs avant l evenement
URL:https://www.rave.ca/event/35570/
DESCRIPTION:samedi 19 decembre (quebec city)\n\n\nPRODUCTION UNDERGROUND present CHRISTMAS NIGHT ( 9e )\n\n\n\nartiste invités:\n\nMAIN ROOM\n\nALEX AXX KOSS (qc)\nSIMON MILLER (mtrl)\nDAVY JOHN PACHECO (ottawa)\nEDDY JASMIN (mtrl)\nGERVAIS SPHINX (qc)\nFREEDOM (qc)\n\nVIP ROOM\n\nC-SIDE (mtrl)\nVS\nFLAVOUR (t-r)\n\nBillet en pré-vente au coût de 22$ avant le 13 déc.\, 27$ du 14 déc. au 19 déc. \n\nbillets Vip pré-vente 37$ avant le 13 déc.\, 42$ du 14 déc. au 19 déc.\n\nÀ la porte 37$ rég. et 47$ vip\n\nBillets vip = No line up\, accès au vip avec les dj Flavour vs C-Side\, 3 séance de bronsage au salon Soleil des Caraibes\, Buffet de friandise et cd de GERVAIS SPHINX special CHRISTMAS NIGHT 9iem édition.\n\nPoint de vente:\nZone Urbaine Carrefour Charlesbourg 418-622-3671\nVision Rock 2700 Place Laurier 3iem étage 418-657-6732\nÉchologik 789 rue St-Jean 418-648-2828\nSafe Communication 199 rue De Lanaudière 418-628-8889\nUnderground Production 418-523-1482\n\n\n5000$ en cadeaux remis parmis les 150 premières personnes qui arriveront le soir de l évènement\n\n\n\nsamedi 16 decembre :pre party @ACROBATE NIGHT CLUB\n\nartiste invités :DJ SPHINX (extended set de 5h00)\n\nDimanche 20 déc. after party au VIP longe de midi à 18h\n\n\nINFO LIGNE :418-523-1482
CLASS:PUBLIC
CATEGORIES:
STATUS:CONFIRMED
PARTSTAT:ACCEPTED
END:VEVENT
END:VCALENDAR
