BEGIN:VCALENDAR
PRODID:RAVE.CA V17.0
X-WR-CALNAME:La Bouffe Sous Tous Ses Sens
X-ORIGINAL-URL:https://www.rave.ca/event/35569/
VERSION:2.0
CALSCALE:GREGORIAN
METHOD:PUBLISH
BEGIN:VEVENT
DTSTAMP:20091127T162752Z
LAST-MODIFIED:20091127T162752Z
CREATED:20091127T162747Z
SEQUENCE:35569
ORGANIZER:Unknown
DTSTART:20091203T200000Z
DTEND:20091204T030000Z
UID:event_35569@rave.ca
SUMMARY:La Bouffe Sous Tous Ses Sens
LOCATION:Balroom
URL:https://www.rave.ca/event/35569/
DESCRIPTION:La BOUFFE sous tous ses sens\n\n             Les finissantes de Zoom Académie vous dressent leurs tables \n                pour une expérience culinaire des plus hautes en saveur :\n                               Un combat amical de chefs cuisiniers \n        pour vous faire découvrir la grande tendance du ''chef à domicile''.\n\n                Une brochette de surprises qui éveillera tous vos sens! \n\n                                           Jeudi le 3 décembre 2009\n                                Balroom Bar\, 3643 St-Laurent\, Montréal\n\n\n*Le menu de la soirée*\n\nLes entrées \n20h : Ouverture des portes\n         Première consommation gratuite\n         Dégustation de bouchées \n         Ambiance lounge\n         Body painting sous le thème de la nourriture\n         Exposition de toiles \n         Coin détente\n         … Éveiller tous vos sens ...\n\nLes plats principaux\n21h : Mot de bienvenue \n         Mot sur la Fondation ''À Boire & À Manger''\n         Présentation des chefs\n         Présentation des juges artistes invités\n         Décompte du combat des chefs 5\, 4\, 3\, 2\, 1\, partez!\n         … Éveiller tous vos sens ... \n\nLes desserts\n22h : Délibération du jury\n         Dévoilement du ''Grand Chef''\n         Remerciement aux commanditaires et bénévoles\n         Poursuivez votre soirée sous le son de notre DJ …!\n\n\nNous sommes fières de remettre les profits à la Fondation\n ''À Boire & À Manger''. \n\nUn sac cadeau vous sera remis en échange de votre billet \nà la fin de la soirée\, gardez-le précieusement! \n\n                                   Faites-vite les places sont limitées!\n       Seulement 400 billets sont disponibles à la billetterie du Balroom Bar\n                                  Billets en pré-vente au coût de 20$\n                                                (18 ans et plus)\n    Pour achat et informations : sylvie@balroombar.com ou (514) 262-1642\n                         marieve_roy5@hotmail.com ou (514) 953-5686
CLASS:PUBLIC
CATEGORIES:
STATUS:CONFIRMED
PARTSTAT:ACCEPTED
END:VEVENT
END:VCALENDAR
