BEGIN:VCALENDAR
PRODID:RAVE.CA V17.0
X-WR-CALNAME:I.No Et Who Are You
X-ORIGINAL-URL:https://www.rave.ca/event/35560/
VERSION:2.0
CALSCALE:GREGORIAN
METHOD:PUBLISH
BEGIN:VEVENT
DTSTAMP:20091127T161713Z
LAST-MODIFIED:20091127T161713Z
CREATED:20091127T161705Z
SEQUENCE:35560
ORGANIZER:Unknown
DTSTART:20091130T210000Z
DTEND:20091201T000000Z
UID:event_35560@rave.ca
SUMMARY:I.No Et Who Are You
LOCATION:L'Abreuvoir
URL:https://www.rave.ca/event/35560/
DESCRIPTION:@ L'Abreuvoir\, 403 rue Ontario E (ancien Baloo's)\n\nOften compared to Patrick Watson or Pink Floyd\, melodic rock. Rock mélodique\, atmosphérique\, livré avec un plaisir contagieux. Découvrez le groupe chéri de Québec\, pour une des premières fois à Montréal.\n\nhttp://www.myspace.com/whoareyoumusic
CLASS:PUBLIC
CATEGORIES:
STATUS:CONFIRMED
PARTSTAT:ACCEPTED
END:VEVENT
END:VCALENDAR
