BEGIN:VCALENDAR
PRODID:RAVE.CA V17.0
X-WR-CALNAME:Soirée Bénéfice Pour Eric Digras: Warren C. Spicer (Plants And Animals)
X-ORIGINAL-URL:https://www.rave.ca/event/35528/
VERSION:2.0
CALSCALE:GREGORIAN
METHOD:PUBLISH
BEGIN:VEVENT
DTSTAMP:20091127T155427Z
LAST-MODIFIED:20091127T155427Z
CREATED:20091127T155421Z
SEQUENCE:35528
ORGANIZER:Unknown
DTSTART:20091204T210000Z
DTEND:20091204T210000Z
UID:event_35528@rave.ca
SUMMARY:Soirée Bénéfice Pour Eric Digras: Warren C. Spicer (Plants And Animals)
LOCATION:Il Motore
URL:https://www.rave.ca/event/35528/
DESCRIPTION:
CLASS:PUBLIC
CATEGORIES:
STATUS:CONFIRMED
PARTSTAT:ACCEPTED
END:VEVENT
END:VCALENDAR
