BEGIN:VCALENDAR
PRODID:RAVE.CA V17.0
X-WR-CALNAME:Time In The Technosphere
X-ORIGINAL-URL:https://www.rave.ca/event/35513/
VERSION:2.0
CALSCALE:GREGORIAN
METHOD:PUBLISH
BEGIN:VEVENT
DTSTAMP:20100127T120415Z
LAST-MODIFIED:20100127T120415Z
CREATED:20091126T171814Z
SEQUENCE:35513
ORGANIZER:Prism Code
DTSTART:20100130T210000Z
DTEND:20100130T210000Z
UID:event_35513@rave.ca
SUMMARY:Time In The Technosphere
LOCATION:Unknown
URL:https://www.rave.ca/event/35513/
DESCRIPTION:Children of Earth and beyond are summoned to partake in an awesome journey through the time distortion matrix. Awaken your senses and resynchronize your galactic portals as we once again break sonic barriers\, smashing down the walls into the next plane of pseudo-reality. \n\n>>   DJ Pollyfonika - FrakaSound Records\, BomShanka music (México)\nhttp://www.myspace.com/djpollyfonika\n\nVIRTUAL LIGHT vs POLLYFONIKA tag team set !! \n\nCosmic Serpent - Divine Music Tribe (Sweden)\nMachine Elf - OYA Collective (Toronto)\nVirtual Light - Prism Code\, Geomagnetic TV (Montreal)\nHexa 5 - Prism Code\, Freak Addiction Krew (Montreal)\n\nTIMESLOTS\n\nZentrix 10:00-10:30\nCosmic Serpent 10:30-12:00\nHexa 5 - 12:00-2:00\nPollyfonika - 2:00-4:00\nVirtual Light VS Pollifonika 4:00-5:00\nVirtual Light 5:00-6:30\nMachine Elf 6:30-8:30\nZentrix 8:30-10:00\n\nDeco By : NOS (Sweden)\nhttp://www.psygarden.be/gallery/v/Backdrops/Nos/\n\nVJs : Create Change\n\nJuice Bar\n1$ Loco Tacos\nKiosk by Alice's Creations (Hemp Jewelery)\n\nMONYKA'S (PERCEPTIONS) BIRTHDAY !!!!\n\nTrancefare :\n30$ Advance\n40$ Door\n\nTickets available at : \nPsychonaut - 154 Prince-Arthur (Montreal)\n\nLocation : 3081 Ontario East (Metro Frontenac or Préfontaine) \n\nCOME TO CONTRIBUTE NOT TO CONSUME
CLASS:PUBLIC
CATEGORIES:
STATUS:CONFIRMED
PARTSTAT:ACCEPTED
END:VEVENT
END:VCALENDAR
