BEGIN:VCALENDAR
PRODID:RAVE.CA V17.0
X-WR-CALNAME:Ebm Party 24
X-ORIGINAL-URL:https://www.rave.ca/event/35507/
VERSION:2.0
CALSCALE:GREGORIAN
METHOD:PUBLISH
BEGIN:VEVENT
DTSTAMP:20091125T101823Z
LAST-MODIFIED:20091125T101823Z
CREATED:20091125T101817Z
SEQUENCE:35507
ORGANIZER:Unknown
DTSTART:20091128T220000Z
DTEND:20091129T030000Z
UID:event_35507@rave.ca
SUMMARY:Ebm Party 24
LOCATION:Nocturne\, Club
URL:https://www.rave.ca/event/35507/
DESCRIPTION:Fast beat the feet\, fast fall the hands\nFast beat the feet\, fast fall the hands\n\nMelody in the music\, the music of drums\nMelody in the music\, the music of drums\nChoose the fast beat\, choose the hard line\nChoose the fast beat\, choose the hard line\n\nOn Saturday Nov 28 the beat takes over your body at EBM Party 24. Guest DJ Dreamstate Seven gets you moving and Chris Way keeps the old school alive in the frontroom.\nDJ Lazarus has lots of new tunes from the bands you love this month.\n\nWIN TICKETS to see Nitzer Ebb on Tues Dec 1st at Mod Club.\nNitzer Ebb invite: http://www.facebook.com/event.php?eid=155112022759\n\nGet out and support your underground dance events.\n\nSaturday Nov 28\, 2009\nEBM Party 24 w/ Retro Room\nNocturne - 550 Queen St West - Toronto \n10pm-3am 19+\n$3 before 11pm $5 after\nhttp://www.djlazarus.com\nfacebook.com/djlazarus\nfacebook: http://www.facebook.com/group.php?gid=7847109868\nfacebook invite: http://www.facebook.com/home.php?#/event.php?eid=179458998025\n\nmainroom: DJ Lazarus with guest DJ Dreamstate Seven (ebm\, industrial\, synthpop)\n\nfrontroom: Chris Way (retro\, brit\, indie)\n\nNext EBM Party is Sat Dec 26 - Boxing Day event\n\nUPCOMING EVENTS:\nEvery Friday - MUSIC FOR THE MASSES @ Vdara\nNov 28 - EBM PARTY 24 - frontroom: Retro with Chris Way @ Nocturne\nDec 5 - DARKRAVE v.114 *ALL AGES* Theme: Pirates vs Ninja's @ Big Bop\nDec 12 - PANIC - the ultimate retro party - Holy Joe's: Manchester & the 90's British Invasion @ Reverb\nDec 19 - Fetish Masquerade - theme: Bawdy Medieval Yuletide Fete\nDec 26 - EBM PARTY 25 - Boxing Day Party frontroom: Retro with Chris Way @ Nocturne\nJan 1-3 - 40 HOUR EPIC DARKRAVE 2010 *ALL AGES* Theme: Future Military @ Big Bop\nJan 9 - PANIC - the ultimate retro party - Holy Joe's: The Cure & Siouxsie Fest @ Reverb\nJan 16 - Fetish Masquerade theme: "Nice Boots\, Wanna F*ck?"\nJan 23 - Super Turbo Special Cool SYNTHPOP SATURDAY IIII @ Nocturne\nJan 30 - EBM PARTY 26 - frontroom: Retro with Chris Way @ Nocturne\nFeb 13 - PANIC - the ultimate retro party - Holy Joe's: The Smiths/Morrissey Fest *Valentine's Event* @ Reverb\nMarch 13 - PANIC - the ultimate retro party *7 Year Anniversary* - Holy Joe's: Retro Cheese & One Hit Wonders @ Reverb\nApril 10 - PANIC - the ultimate retro party - Holy Joe's: New Order/Joy Division Fest @ Reverb
CLASS:PUBLIC
CATEGORIES:
STATUS:CONFIRMED
PARTSTAT:ACCEPTED
END:VEVENT
END:VCALENDAR
