BEGIN:VCALENDAR
PRODID:RAVE.CA V17.0
X-WR-CALNAME:Louis-Georges Cazabon
X-ORIGINAL-URL:https://www.rave.ca/event/35457/
VERSION:2.0
CALSCALE:GREGORIAN
METHOD:PUBLISH
BEGIN:VEVENT
DTSTAMP:20091124T002601Z
LAST-MODIFIED:20091124T002601Z
CREATED:20091124T002547Z
SEQUENCE:35457
ORGANIZER:Unknown
DTSTART:20091204T210000Z
DTEND:20091204T210000Z
UID:event_35457@rave.ca
SUMMARY:Louis-Georges Cazabon
LOCATION:La Folie
URL:https://www.rave.ca/event/35457/
DESCRIPTION:
CLASS:PUBLIC
CATEGORIES:
STATUS:CONFIRMED
PARTSTAT:ACCEPTED
END:VEVENT
END:VCALENDAR
