BEGIN:VCALENDAR
PRODID:RAVE.CA V17.0
X-WR-CALNAME:Rencontre Enfants Indigo Et Cristal
X-ORIGINAL-URL:https://www.rave.ca/event/35450/
VERSION:2.0
CALSCALE:GREGORIAN
METHOD:PUBLISH
BEGIN:VEVENT
DTSTAMP:20091123T195933Z
LAST-MODIFIED:20091123T195933Z
CREATED:20091123T195822Z
SEQUENCE:35450
ORGANIZER:Unknown
DTSTART:20091203T193000Z
DTEND:20091203T193000Z
UID:event_35450@rave.ca
SUMMARY:Rencontre Enfants Indigo Et Cristal
LOCATION:Unknown
URL:https://www.rave.ca/event/35450/
DESCRIPTION:Rencontre informelle entre indigo\, cristal et toutes les membres de cette grande famille spirituelle. Jeudi 3 décembre dans un salon du thé du Plateau Mont-Royal.\nl'Orienthé\, 4511 St-Denis\, Metro Mont-Royal. 19h30.\n\nEnfants\, Ado\, Adultes\, Sages\, Guérisseurs\, Professeurs\, Enseignants\, Parents qui se reconnaissent ici et maintenant comme membres de cette famille\, vous êtes invités à participer à se groupe de discussion.\n\nLes Enfants Indigo (enfants des étoiles\, de lumière\, cristal\, etc.) naissent avec un nouveau programme immanent. Plus sensibles\, ils réagissent fortement à tout ce qui est rigide et conforme. Plusieurs enfants nés ces dernières années possédent des aptitudes psychologiques et spirituelles particulières\, voire des pouvoirs paranormaux. Les écoles ont de plus en plus de difficulté avec ces enfants et s’ajustent difficilement à leur énergie débordante.\n\n\nnamaste
CLASS:PUBLIC
CATEGORIES:
STATUS:CONFIRMED
PARTSTAT:ACCEPTED
END:VEVENT
END:VCALENDAR
