BEGIN:VCALENDAR
PRODID:RAVE.CA V17.0
X-WR-CALNAME:Le Mouvement Jovialiste Célèbre 39 Ans D’être
X-ORIGINAL-URL:https://www.rave.ca/event/35449/
VERSION:2.0
CALSCALE:GREGORIAN
METHOD:PUBLISH
BEGIN:VEVENT
DTSTAMP:20091123T195730Z
LAST-MODIFIED:20091123T195730Z
CREATED:20091123T195321Z
SEQUENCE:35449
ORGANIZER:Unknown
DTSTART:20091214T193000Z
DTEND:20091214T193000Z
UID:event_35449@rave.ca
SUMMARY:Le Mouvement Jovialiste Célèbre 39 Ans D’être
LOCATION:Unknown
URL:https://www.rave.ca/event/35449/
DESCRIPTION:Le Mouvement Jovialiste célèbre 39 ans d’Être \nLundi\, le 14 décembre à 19 h 30\nau Centre Vox Populi : 550\, St-Zotique Est\, (métro Beaubien)\n \n\nC'est du désir de mener une existence forte\, stimulante\, joyeuse\, riche\, cultivée et chaleureuse qu'est né le Mouvement Jovialiste\, le 14 décembre 1970. Fondé par le philosophe André Moreau\, il connaît aujourd'hui une seconde vie sous la direction de l'artiste Nicolas Lehoux et avec le soutient des Éditions Point Zéro. \nLundi le 14 décembre prochain\, dès 19h30\, vous êtes cordialement invité à venir fêter avec nous les 39 ans du mouvement. Cet événement sera l’occasion du lancement officiel du nouveau livre d’André Moreau : La bête est porteuse de la divinité. Plusieurs artistes jovialistes viendront déployer leurs talents\, en chanson\, poésie\, danse\, flamenco et même du Kung-Fu\, afin de faire de cette soirée un moment inoubliable.\n \nLe Jovialisme est la seule philosophie qui ne soit pas sur la défensive\, car elle ne cherche pas à se rebeller contre la violence\, le matérialisme\, le stress\, l'inflation. Toutes ces choses peuvent devenir amusantes\; tout dépend du point de vue où l'on se place. Au contraire\, c'est une philosophie offensive\, en pleine expansion\, qui pense son développement en fonction de la propagation de la fête. Étant né au Québec\, un pays replié sur lui-même\, une contrée francophone minuscule isolée dans une mer anglophone de 320 millions d'habitants\, le Jovialisme ne peut rencontrer d'obstacle. Personne ne s'attend à un tel choc venant du Nord.\nAu moment où le Nouvel Ordre Mondial menace d'enlever toute liberté aux individus\, la poussée en avant de ceux qui assument leur être sous la lumineuse sauvegarde de la loi d'exception est sur le point de mettre en échec cette tentative de soumission des consciences à grande échelle. Que dire ? On ne peut tout simplement pas venir à bout de la liberté !\nComment être un vrai jovialiste ? En étant soi-même partout et constamment\, en demeurant ouvert de façon bienveillante et accueillante\, chaleureuse et fraternelle\, en fréquentant d'autres jovialistes et en étant fier de l'être. Un jour\, les jovialistes couvriront la terre. Ils auront leurs temples\, leurs lieux de loisir\, leurs banques\, leurs systèmes de communication et de transport\, leurs villes. Bref\, nous aurons une nouvelle civilisation. Jovialistes de tous les pays\, regroupez-vous pour former la communauté vivante de l'harmonie. La famille bachique est la cellule de base du monde nouveau.\n\nLe Jovialisme est une mentalité\, un art de vivre\, une vision du monde\, un feu sacré. Participez vous aussi à ce mouvement irrésistible qui éclate ici et maintenant à la face du monde.\n\n\n\nNicolas Lehoux  \ndirecteur\n514 524-6850\nmouvementjovialiste@gmail.com\nwww.mouvementjovialiste.ca\n \nAndré Moreau\n514 279-4808\nwww.andremoreau.ca
CLASS:PUBLIC
CATEGORIES:
STATUS:CONFIRMED
PARTSTAT:ACCEPTED
END:VEVENT
END:VCALENDAR
