BEGIN:VCALENDAR
PRODID:RAVE.CA V17.0
X-WR-CALNAME:Louis-Georges Cazabon
X-ORIGINAL-URL:https://www.rave.ca/event/35422/
VERSION:2.0
CALSCALE:GREGORIAN
METHOD:PUBLISH
BEGIN:VEVENT
DTSTAMP:20091121T173648Z
LAST-MODIFIED:20091121T173648Z
CREATED:20091121T173642Z
SEQUENCE:35422
ORGANIZER:Unknown
DTSTART:20091219T210000Z
DTEND:20091219T210000Z
UID:event_35422@rave.ca
SUMMARY:Louis-Georges Cazabon
LOCATION:La Folie
URL:https://www.rave.ca/event/35422/
DESCRIPTION:
CLASS:PUBLIC
CATEGORIES:
STATUS:CONFIRMED
PARTSTAT:ACCEPTED
END:VEVENT
END:VCALENDAR
