BEGIN:VCALENDAR
PRODID:RAVE.CA V17.0
X-WR-CALNAME:Stereo Saturdays: Nouveau Concept, (Aucun Dj Ne Sera Dévoilé À L&#039;avance)
X-ORIGINAL-URL:https://www.rave.ca/event/35416/
VERSION:2.0
CALSCALE:GREGORIAN
METHOD:PUBLISH
BEGIN:VEVENT
DTSTAMP:20091121T172827Z
LAST-MODIFIED:20091121T172827Z
CREATED:20091121T172814Z
SEQUENCE:35416
ORGANIZER:Unknown
DTSTART:20091212T210000Z
DTEND:20091212T210000Z
UID:event_35416@rave.ca
SUMMARY:Stereo Saturdays: Nouveau Concept\, (Aucun Dj Ne Sera Dévoilé À L'avance)
LOCATION:Stereo
URL:https://www.rave.ca/event/35416/
DESCRIPTION:
CLASS:PUBLIC
CATEGORIES:
STATUS:CONFIRMED
PARTSTAT:ACCEPTED
END:VEVENT
END:VCALENDAR
