BEGIN:VCALENDAR
PRODID:RAVE.CA V17.0
X-WR-CALNAME:Louis-Georges Cazabon
X-ORIGINAL-URL:https://www.rave.ca/event/35408/
VERSION:2.0
CALSCALE:GREGORIAN
METHOD:PUBLISH
BEGIN:VEVENT
DTSTAMP:20091121T170623Z
LAST-MODIFIED:20091121T170623Z
CREATED:20091121T170617Z
SEQUENCE:35408
ORGANIZER:Unknown
DTSTART:20091212T210000Z
DTEND:20091212T210000Z
UID:event_35408@rave.ca
SUMMARY:Louis-Georges Cazabon
LOCATION:La Folie
URL:https://www.rave.ca/event/35408/
DESCRIPTION:
CLASS:PUBLIC
CATEGORIES:
STATUS:CONFIRMED
PARTSTAT:ACCEPTED
END:VEVENT
END:VCALENDAR
