BEGIN:VCALENDAR
PRODID:RAVE.CA V17.0
X-WR-CALNAME:Pré-Party Résolve 2k10: Nico Concerto, Simon Miller
X-ORIGINAL-URL:https://www.rave.ca/event/35402/
VERSION:2.0
CALSCALE:GREGORIAN
METHOD:PUBLISH
BEGIN:VEVENT
DTSTAMP:20091121T170512Z
LAST-MODIFIED:20091121T170512Z
CREATED:20091121T170503Z
SEQUENCE:35402
ORGANIZER:Unknown
DTSTART:20091205T210000Z
DTEND:20091205T210000Z
UID:event_35402@rave.ca
SUMMARY:Pré-Party Résolve 2k10: Nico Concerto\, Simon Miller
LOCATION:Karma\, Club
URL:https://www.rave.ca/event/35402/
DESCRIPTION:
CLASS:PUBLIC
CATEGORIES:
STATUS:CONFIRMED
PARTSTAT:ACCEPTED
END:VEVENT
END:VCALENDAR
