BEGIN:VCALENDAR
PRODID:RAVE.CA V17.0
X-WR-CALNAME:Ntk Part En Live
X-ORIGINAL-URL:https://www.rave.ca/event/35373/
VERSION:2.0
CALSCALE:GREGORIAN
METHOD:PUBLISH
BEGIN:VEVENT
DTSTAMP:20100514T143414Z
LAST-MODIFIED:20100514T143414Z
CREATED:20091121T144410Z
SEQUENCE:35373
ORGANIZER:Unknown
DTSTART:20100514T100000Z
DTEND:20100514T100000Z
UID:event_35373@rave.ca
SUMMARY:Ntk Part En Live
LOCATION:Unknown
URL:https://www.rave.ca/event/35373/
DESCRIPTION:Soirée NTK avec au menu: des livesets\, encore des livesets et toujours des livesets!! Je le répète au cas ou vous n'aviez pas compris 100% LIVE!!!!\n\nhttp://www.ntkrew.org/
CLASS:PUBLIC
CATEGORIES:
STATUS:CONFIRMED
PARTSTAT:ACCEPTED
END:VEVENT
END:VCALENDAR
