BEGIN:VCALENDAR
PRODID:RAVE.CA V17.0
X-WR-CALNAME:Black Out: Tommy Four Seven (Berlin), Creator
X-ORIGINAL-URL:https://www.rave.ca/event/35365/
VERSION:2.0
CALSCALE:GREGORIAN
METHOD:PUBLISH
BEGIN:VEVENT
DTSTAMP:20091119T225107Z
LAST-MODIFIED:20091119T225107Z
CREATED:20091119T225100Z
SEQUENCE:35365
ORGANIZER:Unknown
DTSTART:20091204T235500Z
DTEND:20091205T100000Z
UID:event_35365@rave.ca
SUMMARY:Black Out: Tommy Four Seven (Berlin)\, Creator
LOCATION:Circus\, Afterhours
URL:https://www.rave.ca/event/35365/
DESCRIPTION:Friday December 4th // CIRCUS // Doors @ 2 am\n\nBLACK OUT\nCreator (2 am - 4h30 am / 7h30 am - 10 am)\nTOMMY FOUR SEVEN (Berlin/CLR) (4h30 am - 7h30 am)\n\nFor reduce tickets\, contact Francis at 514-756-4051 or francis@circusafterhours.com\n\nReduced price:\n20$ men\, 15$ women.\n\n25$ @ door BEFORE 3 am\n\n---------\n\nWe are ending the year on a strong note with true underground\, deep and dark techno.\n\nErphun and Tommy Four Seven have been my two favorite producers of 2009 and are on a very hot streak. It's a privilege to be able to bring you names like these\, thanks to Circus.\n\nNow T47 will bring that uncompromised Berlin sound to Montreal. Tommy is already a strong influence in modern techno. Chris Liebing quickly saw his talent and made him his new CLR protégé.\n\nIf you heard me play in the last year\, you heard a Tommy Four Seven track. He has help me re-imagine my sound.\n\nLately I hear a lot of people complaining about the lack of new\, inspired bookings. Right now we are offering you DJs and music that you can rarely hear in North America.\n\nThis will be an amazing night and I hope you will be there\, \n\nAnd who knows\, maybe we will see some more CLR in 2010 \;-)\n\nFor reduce tickets\, contact Francis at 514-756-4051 or francis@circusafterhours.com
CLASS:PUBLIC
CATEGORIES:
STATUS:CONFIRMED
PARTSTAT:ACCEPTED
END:VEVENT
END:VCALENDAR
