BEGIN:VCALENDAR
PRODID:RAVE.CA V17.0
X-WR-CALNAME:Jedi Electro
X-ORIGINAL-URL:https://www.rave.ca/event/35271/
VERSION:2.0
CALSCALE:GREGORIAN
METHOD:PUBLISH
BEGIN:VEVENT
DTSTAMP:20091117T121927Z
LAST-MODIFIED:20091117T121927Z
CREATED:20091117T121847Z
SEQUENCE:35271
ORGANIZER:Unknown
DTSTART:20091217T210000Z
DTEND:20091217T210000Z
UID:event_35271@rave.ca
SUMMARY:Jedi Electro
LOCATION:Societe des arts Technologiques
URL:https://www.rave.ca/event/35271/
DESCRIPTION:http://jedielectro.com/\n\nJedi Electro@SAT
CLASS:PUBLIC
CATEGORIES:
STATUS:CONFIRMED
PARTSTAT:ACCEPTED
END:VEVENT
END:VCALENDAR
