BEGIN:VCALENDAR
PRODID:RAVE.CA V17.0
X-WR-CALNAME:Kinzaza
X-ORIGINAL-URL:https://www.rave.ca/event/35270/
VERSION:2.0
CALSCALE:GREGORIAN
METHOD:PUBLISH
BEGIN:VEVENT
DTSTAMP:20091116T230021Z
LAST-MODIFIED:20091116T230021Z
CREATED:20091116T230005Z
SEQUENCE:35270
ORGANIZER:Unknown
DTSTART:20091117T190000Z
DTEND:20091117T190000Z
UID:event_35270@rave.ca
SUMMARY:Kinzaza
LOCATION:Le Medley
URL:https://www.rave.ca/event/35270/
DESCRIPTION:Kinzaza présente les pieces de leur prochain album \, concert acoustique \,quitare \,contrebasse et percussion accompagneront la voix envoûtante de Josy. Une belle découverte\, une musique qui va droit au coeur...
CLASS:PUBLIC
CATEGORIES:
STATUS:CONFIRMED
PARTSTAT:ACCEPTED
END:VEVENT
END:VCALENDAR
