BEGIN:VCALENDAR
PRODID:RAVE.CA V17.0
X-WR-CALNAME:Les Frères Goyette, : Pas D&#039;casques
X-ORIGINAL-URL:https://www.rave.ca/event/35254/
VERSION:2.0
CALSCALE:GREGORIAN
METHOD:PUBLISH
BEGIN:VEVENT
DTSTAMP:20091116T171536Z
LAST-MODIFIED:20091116T171536Z
CREATED:20091116T171524Z
SEQUENCE:35254
ORGANIZER:Unknown
DTSTART:20091204T210000Z
DTEND:20091204T210000Z
UID:event_35254@rave.ca
SUMMARY:Les Frères Goyette\, : Pas D'casques
LOCATION:Maison De La Culture Maisonneuve
URL:https://www.rave.ca/event/35254/
DESCRIPTION:6$
CLASS:PUBLIC
CATEGORIES:
STATUS:CONFIRMED
PARTSTAT:ACCEPTED
END:VEVENT
END:VCALENDAR
