BEGIN:VCALENDAR
PRODID:RAVE.CA V17.0
X-WR-CALNAME:Kitch 80-90 Party
X-ORIGINAL-URL:https://www.rave.ca/event/35229/
VERSION:2.0
CALSCALE:GREGORIAN
METHOD:PUBLISH
BEGIN:VEVENT
DTSTAMP:20091116T165549Z
LAST-MODIFIED:20091116T165549Z
CREATED:20091116T165534Z
SEQUENCE:35229
ORGANIZER:Unknown
DTSTART:20091128T220000Z
DTEND:20091129T030000Z
UID:event_35229@rave.ca
SUMMARY:Kitch 80-90 Party
LOCATION:L'Abreuvoir
URL:https://www.rave.ca/event/35229/
DESCRIPTION:Nous sommes heureuses de vous inviter à notre Party D'anniversaire!\nDonc\, Thématique\, les plus grand hitSS des année 80-90 \n\n******Super Prix à gagner pour le meilleur costume******** \n\nBienvenue aux Moustaches\, coupe longeuil(ou MULETTE)\, Fluo\, Taille haute\, RuNNing shoes\,Walk-men\,K-Way\,VHS\,Casette\, Polaroïde \n\nSoyez Original... on vous fait confiance! \n\nSi vous manquez d'inspiration consulter une veille revue distribution aux consommateurs!\n \nLA soirée Débute À 10H et se termine à 3h (ben oui!)\naura lieu au nouveau super Bar L'Abreuvoir! Bière et boisson pas chère!\nhttp://www.abreuvoir.ca/\n\n\nDe 10h à 1h  Hits des années 80-90  Dj Dorobo et Dj John Lee    \n\n\nDe 1h à 3h\n Dj Dominic Dublin\,Tech Safari\, Attitude Recordings\nVS\nDJ Jowel Jowel Oui-R1\, Travel Spirit\n\nDonc\, soyez-y en grand nombre ! \nRéveillez vos vieux souvenirs avec nous !\n\n Pour une soirée Back in the Day...\nLIli et Théo!
CLASS:PUBLIC
CATEGORIES:
STATUS:CONFIRMED
PARTSTAT:ACCEPTED
END:VEVENT
END:VCALENDAR
