BEGIN:VCALENDAR
PRODID:RAVE.CA V17.0
X-WR-CALNAME:X-Cube Bday Party: Jeff Fontaine &amp; Friends
X-ORIGINAL-URL:https://www.rave.ca/event/35163/
VERSION:2.0
CALSCALE:GREGORIAN
METHOD:PUBLISH
BEGIN:VEVENT
DTSTAMP:20091111T195434Z
LAST-MODIFIED:20091111T195434Z
CREATED:20091111T195314Z
SEQUENCE:35163
ORGANIZER:Unknown
DTSTART:20091128T180000Z
DTEND:20091129T030000Z
UID:event_35163@rave.ca
SUMMARY:X-Cube Bday Party: Jeff Fontaine & Friends
LOCATION:L’Assomoir
URL:https://www.rave.ca/event/35163/
DESCRIPTION:SAMEDI 28 NOVEMBRE \n6h00pm @ 3h00am - Vieux-Mtl\n\nVous êtes cordialement inviter à venir tous célébrez l'anniversaire de Christian alias Dj X-Cube! Il as malheureusement quitter l'age du Christ\, rendu à 34 ans \,toujours en forme et toute ces dents!\n\nSi vous ne connaissez pas encore l'Assomoir sur la rue Notre-Dame qui vient d'ouvrir en septembre\, ce sera l'occasion parfaite de venir le découvrir avec vos amis\,collègues ou votre amour!\n\nVoici les DJ's de la soirée qui vous feront danser...\n\nDj's :\nLucie Lebel  -  Noerg / http://www.noerg.com\nJeff Fontaine - UCP / http://www.ucpmusic.com\nChristian X-Cube - Akarien / http://www.djxcube.com / http://www.akarien.com\n\nLa mission de la soirée est de faire passer une très belle soirée à Christian et à vous tous du début à la fin!\n\nOn espère vous y voir en grand nombre pour s'amuser\, démontrer votre amitié et support à notre ami! \;)\n\n-- - --- - - - -- -- - - -- - - - --- - - - -- - --- -- - - -- - ----- -- - - - - -- - -- - ---- - --- - --- - - - -- -- - - -- - - - --- -\nSATURDAY NOVEMBER 28TH \n6h00pm @ 3h00am - Old-Mtl\n\nYou are cordially invite all to come celebrate the birthday of Christian aka Dj X-Cube! There have unfortunately left the age of Christ\, delivered at 34\, still fit and all those teeth!\n\nIf you do not yet know the Assomoir on Notre Dame\, which just opened in September\, it will be the perfect opportunity to come and discover with your friends\, colleagues or your love!\n\nHere's the DJ's of the evening which will make you dance...\n\nDj's :\nLucie Lebel  -  Noerg / http://www.noerg.com\nJeff Fontaine - UCP / http://www.ucpmusic.com\nChristian X-Cube - Akarien / http://www.djxcube.com / http://www.akarien.com\n\nThe mission of the evening is to spend a wonderful evening to Christian and all of you from beginning to end!\n\nWe hope to see you there in large numbers for fun\, show your friendship and support our friend! \;)\n\n\n\nL’Assomoir\n211 Notre-Dame ouest\nhttp://www.assommoir.ca/\n514-272-0777
CLASS:PUBLIC
CATEGORIES:
STATUS:CONFIRMED
PARTSTAT:ACCEPTED
END:VEVENT
END:VCALENDAR
