BEGIN:VCALENDAR
PRODID:RAVE.CA V17.0
X-WR-CALNAME:Luciano Pardini
X-ORIGINAL-URL:https://www.rave.ca/event/35153/
VERSION:2.0
CALSCALE:GREGORIAN
METHOD:PUBLISH
BEGIN:VEVENT
DTSTAMP:20091111T194418Z
LAST-MODIFIED:20091111T194418Z
CREATED:20091111T194407Z
SEQUENCE:35153
ORGANIZER:Unknown
DTSTART:20091121T010000Z
DTEND:20091122T070000Z
UID:event_35153@rave.ca
SUMMARY:Luciano Pardini
LOCATION:Rise
URL:https://www.rave.ca/event/35153/
DESCRIPTION:Luciano Pardini (Pacha Recordings Artist)\nCLUBE RISE\n\nBOSTON AFTERHOURS\n\nORIGINS\n\nLUCIANO PARDINI \n\nalong with\n\nCHARLES LIMA\n\n\nMusic in the lounge by\n\nWILL PIZZETTI\n\n1am-7am\nOPEN UNTIL LATE MORNING
CLASS:PUBLIC
CATEGORIES:
STATUS:CONFIRMED
PARTSTAT:ACCEPTED
END:VEVENT
END:VCALENDAR
