BEGIN:VCALENDAR
PRODID:RAVE.CA V17.0
X-WR-CALNAME:Green Velvet, Mini, Yaz
X-ORIGINAL-URL:https://www.rave.ca/event/3514/
VERSION:2.0
CALSCALE:GREGORIAN
METHOD:PUBLISH
BEGIN:VEVENT
DTSTAMP:20040719T000000Z
LAST-MODIFIED:20040719T000000Z
CREATED:20040602T000000Z
SEQUENCE:3514
ORGANIZER:Unknown
DTSTART:20040820T000000Z
DTEND:20040820T000000Z
UID:event_3514@rave.ca
SUMMARY:Green Velvet\, Mini\, Yaz
LOCATION:Aria\, Afterhours
URL:https://www.rave.ca/event/3514/
DESCRIPTION:
CLASS:PUBLIC
CATEGORIES:
STATUS:CONFIRMED
PARTSTAT:ACCEPTED
END:VEVENT
END:VCALENDAR
