BEGIN:VCALENDAR
PRODID:RAVE.CA V17.0
X-WR-CALNAME:Deep Crew &amp; Bar Laneu Present Deeptribal, Dj Vyktor Zaa &amp; Lalosdrums &amp; Dj Perry
X-ORIGINAL-URL:https://www.rave.ca/event/35092/
VERSION:2.0
CALSCALE:GREGORIAN
METHOD:PUBLISH
BEGIN:VEVENT
DTSTAMP:20091203T120226Z
LAST-MODIFIED:20091203T120226Z
CREATED:20091111T092710Z
SEQUENCE:35092
ORGANIZER:Unknown
DTSTART:20091205T220000Z
DTEND:20091205T220000Z
UID:event_35092@rave.ca
SUMMARY:Deep Crew & Bar Laneu Present Deeptribal\, Dj Vyktor Zaa & Lalosdrums & Dj Perry
LOCATION:Unknown
URL:https://www.rave.ca/event/35092/
DESCRIPTION:Last  Event of the Year  This is our last 2009\nI can tell\, we've pretty much saved the best for last. .../ Notre prochain événement sera le dernier de l'année 2009. Restez à l'écoute\n------------Le gala Montréal’s Dj Awards 2009 \nTrophées Honorifiques (\nDJ Perry '' The Wizzard '' Lammarre)
CLASS:PUBLIC
CATEGORIES:
STATUS:CONFIRMED
PARTSTAT:ACCEPTED
END:VEVENT
END:VCALENDAR
