BEGIN:VCALENDAR
PRODID:RAVE.CA V17.0
X-WR-CALNAME:Stereo Saturdays
X-ORIGINAL-URL:https://www.rave.ca/event/34968/
VERSION:2.0
CALSCALE:GREGORIAN
METHOD:PUBLISH
BEGIN:VEVENT
DTSTAMP:20091109T044549Z
LAST-MODIFIED:20091109T044549Z
CREATED:20091109T044540Z
SEQUENCE:34968
ORGANIZER:Unknown
DTSTART:20091205T210000Z
DTEND:20091205T210000Z
UID:event_34968@rave.ca
SUMMARY:Stereo Saturdays
LOCATION:Stereo Bar
URL:https://www.rave.ca/event/34968/
DESCRIPTION:
CLASS:PUBLIC
CATEGORIES:
STATUS:CONFIRMED
PARTSTAT:ACCEPTED
END:VEVENT
END:VCALENDAR
