BEGIN:VCALENDAR
PRODID:RAVE.CA V17.0
X-WR-CALNAME:Et Que Ça Jazze!
X-ORIGINAL-URL:https://www.rave.ca/event/34811/
VERSION:2.0
CALSCALE:GREGORIAN
METHOD:PUBLISH
BEGIN:VEVENT
DTSTAMP:20091109T011912Z
LAST-MODIFIED:20091109T011912Z
CREATED:20091109T011907Z
SEQUENCE:34811
ORGANIZER:Unknown
DTSTART:20091130T210000Z
DTEND:20091130T210000Z
UID:event_34811@rave.ca
SUMMARY:Et Que Ça Jazze!
LOCATION:O Patro Vys
URL:https://www.rave.ca/event/34811/
DESCRIPTION:
CLASS:PUBLIC
CATEGORIES:
STATUS:CONFIRMED
PARTSTAT:ACCEPTED
END:VEVENT
END:VCALENDAR
