BEGIN:VCALENDAR
PRODID:RAVE.CA V17.0
X-WR-CALNAME:Overloud
X-ORIGINAL-URL:https://www.rave.ca/event/34782/
VERSION:2.0
CALSCALE:GREGORIAN
METHOD:PUBLISH
BEGIN:VEVENT
DTSTAMP:20091105T120123Z
LAST-MODIFIED:20091105T120123Z
CREATED:20091105T113657Z
SEQUENCE:34782
ORGANIZER:Unknown
DTSTART:20091120T220000Z
DTEND:20091121T030000Z
UID:event_34782@rave.ca
SUMMARY:Overloud
LOCATION:Unknown
URL:https://www.rave.ca/event/34782/
DESCRIPTION:Le 20 Novembre prochain\, OverLoud Events investit le Living Nightclub (4521 Boul. St Laurent) pour une soirée spéciale axée Fidget House\, Electro et Techno !\n\nLINE UP :\n\nNHO               : 22h à 23h30   (Electro)\nZIM (ZONE 33/NTK) : 23h30 à 00h30 (Fidget House)\nMAX TRAX          : 00h30 à 02h   (Techno)\nMOEBIUS (NTK)     : 02h à 03h     (Fidget/Electro)\n\nVENEZ PASSER UNE BONNE SOIRÉE DANS UNE SALLE CLASSE AVEC DU PUR SON !\n\n* * * Le party se déroule à l'étage du bas * * *
CLASS:PUBLIC
CATEGORIES:
STATUS:CONFIRMED
PARTSTAT:ACCEPTED
END:VEVENT
END:VCALENDAR
