BEGIN:VCALENDAR
PRODID:RAVE.CA V17.0
X-WR-CALNAME:Romeo Kardec, Sean Kosa
X-ORIGINAL-URL:https://www.rave.ca/event/3472/
VERSION:2.0
CALSCALE:GREGORIAN
METHOD:PUBLISH
BEGIN:VEVENT
DTSTAMP:20040531T000000Z
LAST-MODIFIED:20040531T000000Z
CREATED:20040531T000000Z
SEQUENCE:3472
ORGANIZER:Piknic Electronik
DTSTART:20040711T000000Z
DTEND:20040711T000000Z
UID:event_3472@rave.ca
SUMMARY:Romeo Kardec\, Sean Kosa
LOCATION:Unknown
URL:https://www.rave.ca/event/3472/
DESCRIPTION:
CLASS:PUBLIC
CATEGORIES:
STATUS:CONFIRMED
PARTSTAT:ACCEPTED
END:VEVENT
END:VCALENDAR
